BEGIN:VCALENDAR
VERSION:2.0
PRODID:-//Pickleball 603 - ECPv6.15.20//NONSGML v1.0//EN
CALSCALE:GREGORIAN
METHOD:PUBLISH
X-WR-CALNAME:Pickleball 603
X-ORIGINAL-URL:https://pickleball603.com
X-WR-CALDESC:Events for Pickleball 603
REFRESH-INTERVAL;VALUE=DURATION:PT1H
X-Robots-Tag:noindex
X-PUBLISHED-TTL:PT1H
BEGIN:VTIMEZONE
TZID:America/New_York
BEGIN:DAYLIGHT
TZOFFSETFROM:-0500
TZOFFSETTO:-0400
TZNAME:EDT
DTSTART:20260308T070000
END:DAYLIGHT
BEGIN:STANDARD
TZOFFSETFROM:-0400
TZOFFSETTO:-0500
TZNAME:EST
DTSTART:20261101T060000
END:STANDARD
BEGIN:DAYLIGHT
TZOFFSETFROM:-0500
TZOFFSETTO:-0400
TZNAME:EDT
DTSTART:20270314T070000
END:DAYLIGHT
BEGIN:STANDARD
TZOFFSETFROM:-0400
TZOFFSETTO:-0500
TZNAME:EST
DTSTART:20271107T060000
END:STANDARD
BEGIN:DAYLIGHT
TZOFFSETFROM:-0500
TZOFFSETTO:-0400
TZNAME:EDT
DTSTART:20280312T070000
END:DAYLIGHT
BEGIN:STANDARD
TZOFFSETFROM:-0400
TZOFFSETTO:-0500
TZNAME:EST
DTSTART:20281105T060000
END:STANDARD
END:VTIMEZONE
BEGIN:VEVENT
DTSTART;TZID=America/New_York:20271202T180000
DTEND;TZID=America/New_York:20271202T180000
DTSTAMP:20260420T001341
CREATED:20250813T231632Z
LAST-MODIFIED:20250813T231632Z
UID:10000124-1827770400-1827770400@pickleball603.com
SUMMARY:45s Card Night
DESCRIPTION:
URL:https://pickleball603.com/event-detail/45s-card-night/2027-12-02/
LOCATION:The Kitchen at PB603\, 45 Danville Road\, Hampstead\, NH\, 03826\, United States
ATTACH;FMTTYPE=image/jpeg:https://pickleball603.com/wp-content/uploads/2025/08/45s-card-night.jpg
END:VEVENT
BEGIN:VEVENT
DTSTART;TZID=America/New_York:20271209T180000
DTEND;TZID=America/New_York:20271209T180000
DTSTAMP:20260420T001341
CREATED:20250813T231632Z
LAST-MODIFIED:20250813T231632Z
UID:10000125-1828375200-1828375200@pickleball603.com
SUMMARY:45s Card Night
DESCRIPTION:
URL:https://pickleball603.com/event-detail/45s-card-night/2027-12-09/
LOCATION:The Kitchen at PB603\, 45 Danville Road\, Hampstead\, NH\, 03826\, United States
ATTACH;FMTTYPE=image/jpeg:https://pickleball603.com/wp-content/uploads/2025/08/45s-card-night.jpg
END:VEVENT
BEGIN:VEVENT
DTSTART;TZID=America/New_York:20271216T180000
DTEND;TZID=America/New_York:20271216T180000
DTSTAMP:20260420T001341
CREATED:20250813T231632Z
LAST-MODIFIED:20250813T231632Z
UID:10000126-1828980000-1828980000@pickleball603.com
SUMMARY:45s Card Night
DESCRIPTION:
URL:https://pickleball603.com/event-detail/45s-card-night/2027-12-16/
LOCATION:The Kitchen at PB603\, 45 Danville Road\, Hampstead\, NH\, 03826\, United States
ATTACH;FMTTYPE=image/jpeg:https://pickleball603.com/wp-content/uploads/2025/08/45s-card-night.jpg
END:VEVENT
BEGIN:VEVENT
DTSTART;TZID=America/New_York:20271223T180000
DTEND;TZID=America/New_York:20271223T180000
DTSTAMP:20260420T001341
CREATED:20250813T231632Z
LAST-MODIFIED:20250813T231632Z
UID:10000127-1829584800-1829584800@pickleball603.com
SUMMARY:45s Card Night
DESCRIPTION:
URL:https://pickleball603.com/event-detail/45s-card-night/2027-12-23/
LOCATION:The Kitchen at PB603\, 45 Danville Road\, Hampstead\, NH\, 03826\, United States
ATTACH;FMTTYPE=image/jpeg:https://pickleball603.com/wp-content/uploads/2025/08/45s-card-night.jpg
END:VEVENT
BEGIN:VEVENT
DTSTART;TZID=America/New_York:20271230T180000
DTEND;TZID=America/New_York:20271230T180000
DTSTAMP:20260420T001341
CREATED:20250813T231632Z
LAST-MODIFIED:20250813T231632Z
UID:10000128-1830189600-1830189600@pickleball603.com
SUMMARY:45s Card Night
DESCRIPTION:
URL:https://pickleball603.com/event-detail/45s-card-night/2027-12-30/
LOCATION:The Kitchen at PB603\, 45 Danville Road\, Hampstead\, NH\, 03826\, United States
ATTACH;FMTTYPE=image/jpeg:https://pickleball603.com/wp-content/uploads/2025/08/45s-card-night.jpg
END:VEVENT
END:VCALENDAR