BEGIN:VCALENDAR
VERSION:2.0
PRODID:-//Pickleball 603 - ECPv6.15.20//NONSGML v1.0//EN
CALSCALE:GREGORIAN
METHOD:PUBLISH
X-WR-CALNAME:Pickleball 603
X-ORIGINAL-URL:https://pickleball603.com
X-WR-CALDESC:Events for Pickleball 603
REFRESH-INTERVAL;VALUE=DURATION:PT1H
X-Robots-Tag:noindex
X-PUBLISHED-TTL:PT1H
BEGIN:VTIMEZONE
TZID:America/New_York
BEGIN:DAYLIGHT
TZOFFSETFROM:-0500
TZOFFSETTO:-0400
TZNAME:EDT
DTSTART:20260308T070000
END:DAYLIGHT
BEGIN:STANDARD
TZOFFSETFROM:-0400
TZOFFSETTO:-0500
TZNAME:EST
DTSTART:20261101T060000
END:STANDARD
BEGIN:DAYLIGHT
TZOFFSETFROM:-0500
TZOFFSETTO:-0400
TZNAME:EDT
DTSTART:20270314T070000
END:DAYLIGHT
BEGIN:STANDARD
TZOFFSETFROM:-0400
TZOFFSETTO:-0500
TZNAME:EST
DTSTART:20271107T060000
END:STANDARD
BEGIN:DAYLIGHT
TZOFFSETFROM:-0500
TZOFFSETTO:-0400
TZNAME:EDT
DTSTART:20280312T070000
END:DAYLIGHT
BEGIN:STANDARD
TZOFFSETFROM:-0400
TZOFFSETTO:-0500
TZNAME:EST
DTSTART:20281105T060000
END:STANDARD
END:VTIMEZONE
BEGIN:VEVENT
DTSTART;TZID=America/New_York:20271007T180000
DTEND;TZID=America/New_York:20271007T180000
DTSTAMP:20260419T211030
CREATED:20250813T231632Z
LAST-MODIFIED:20250813T231632Z
UID:10000116-1822932000-1822932000@pickleball603.com
SUMMARY:45s Card Night
DESCRIPTION:
URL:https://pickleball603.com/event-detail/45s-card-night/2027-10-07/
LOCATION:The Kitchen at PB603\, 45 Danville Road\, Hampstead\, NH\, 03826\, United States
ATTACH;FMTTYPE=image/jpeg:https://pickleball603.com/wp-content/uploads/2025/08/45s-card-night.jpg
END:VEVENT
BEGIN:VEVENT
DTSTART;TZID=America/New_York:20271014T180000
DTEND;TZID=America/New_York:20271014T180000
DTSTAMP:20260419T211030
CREATED:20250813T231632Z
LAST-MODIFIED:20250813T231632Z
UID:10000117-1823536800-1823536800@pickleball603.com
SUMMARY:45s Card Night
DESCRIPTION:
URL:https://pickleball603.com/event-detail/45s-card-night/2027-10-14/
LOCATION:The Kitchen at PB603\, 45 Danville Road\, Hampstead\, NH\, 03826\, United States
ATTACH;FMTTYPE=image/jpeg:https://pickleball603.com/wp-content/uploads/2025/08/45s-card-night.jpg
END:VEVENT
BEGIN:VEVENT
DTSTART;TZID=America/New_York:20271021T180000
DTEND;TZID=America/New_York:20271021T180000
DTSTAMP:20260419T211030
CREATED:20250813T231632Z
LAST-MODIFIED:20250813T231632Z
UID:10000118-1824141600-1824141600@pickleball603.com
SUMMARY:45s Card Night
DESCRIPTION:
URL:https://pickleball603.com/event-detail/45s-card-night/2027-10-21/
LOCATION:The Kitchen at PB603\, 45 Danville Road\, Hampstead\, NH\, 03826\, United States
ATTACH;FMTTYPE=image/jpeg:https://pickleball603.com/wp-content/uploads/2025/08/45s-card-night.jpg
END:VEVENT
BEGIN:VEVENT
DTSTART;TZID=America/New_York:20271028T180000
DTEND;TZID=America/New_York:20271028T180000
DTSTAMP:20260419T211030
CREATED:20250813T231632Z
LAST-MODIFIED:20250813T231632Z
UID:10000119-1824746400-1824746400@pickleball603.com
SUMMARY:45s Card Night
DESCRIPTION:
URL:https://pickleball603.com/event-detail/45s-card-night/2027-10-28/
LOCATION:The Kitchen at PB603\, 45 Danville Road\, Hampstead\, NH\, 03826\, United States
ATTACH;FMTTYPE=image/jpeg:https://pickleball603.com/wp-content/uploads/2025/08/45s-card-night.jpg
END:VEVENT
END:VCALENDAR