BEGIN:VCALENDAR
VERSION:2.0
PRODID:-//Pickleball 603 - ECPv6.15.20//NONSGML v1.0//EN
CALSCALE:GREGORIAN
METHOD:PUBLISH
X-ORIGINAL-URL:https://pickleball603.com
X-WR-CALDESC:Events for Pickleball 603
REFRESH-INTERVAL;VALUE=DURATION:PT1H
X-Robots-Tag:noindex
X-PUBLISHED-TTL:PT1H
BEGIN:VTIMEZONE
TZID:America/New_York
BEGIN:DAYLIGHT
TZOFFSETFROM:-0500
TZOFFSETTO:-0400
TZNAME:EDT
DTSTART:20250309T070000
END:DAYLIGHT
BEGIN:STANDARD
TZOFFSETFROM:-0400
TZOFFSETTO:-0500
TZNAME:EST
DTSTART:20251102T060000
END:STANDARD
BEGIN:DAYLIGHT
TZOFFSETFROM:-0500
TZOFFSETTO:-0400
TZNAME:EDT
DTSTART:20260308T070000
END:DAYLIGHT
BEGIN:STANDARD
TZOFFSETFROM:-0400
TZOFFSETTO:-0500
TZNAME:EST
DTSTART:20261101T060000
END:STANDARD
BEGIN:DAYLIGHT
TZOFFSETFROM:-0500
TZOFFSETTO:-0400
TZNAME:EDT
DTSTART:20270314T070000
END:DAYLIGHT
BEGIN:STANDARD
TZOFFSETFROM:-0400
TZOFFSETTO:-0500
TZNAME:EST
DTSTART:20271107T060000
END:STANDARD
END:VTIMEZONE
BEGIN:VEVENT
DTSTART;TZID=America/New_York:20260101T180000
DTEND;TZID=America/New_York:20260101T180000
DTSTAMP:20260420T102505
CREATED:20250813T231632Z
LAST-MODIFIED:20250813T231632Z
UID:10000024-1767290400-1767290400@pickleball603.com
SUMMARY:45s Card Night
DESCRIPTION:
URL:https://pickleball603.com/event-detail/45s-card-night/2026-01-01/
LOCATION:The Kitchen at PB603\, 45 Danville Road\, Hampstead\, NH\, 03826\, United States
ATTACH;FMTTYPE=image/jpeg:https://pickleball603.com/wp-content/uploads/2025/08/45s-card-night.jpg
END:VEVENT
BEGIN:VEVENT
DTSTART;TZID=America/New_York:20260108T180000
DTEND;TZID=America/New_York:20260108T180000
DTSTAMP:20260420T102505
CREATED:20250813T231632Z
LAST-MODIFIED:20250813T231632Z
UID:10000025-1767895200-1767895200@pickleball603.com
SUMMARY:45s Card Night
DESCRIPTION:
URL:https://pickleball603.com/event-detail/45s-card-night/2026-01-08/
LOCATION:The Kitchen at PB603\, 45 Danville Road\, Hampstead\, NH\, 03826\, United States
ATTACH;FMTTYPE=image/jpeg:https://pickleball603.com/wp-content/uploads/2025/08/45s-card-night.jpg
END:VEVENT
BEGIN:VEVENT
DTSTART;TZID=America/New_York:20260109T183000
DTEND;TZID=America/New_York:20260109T213000
DTSTAMP:20260420T102505
CREATED:20260107T223422Z
LAST-MODIFIED:20260107T223422Z
UID:10000265-1767983400-1767994200@pickleball603.com
SUMMARY:The D-Tastic Duo
DESCRIPTION:
URL:https://pickleball603.com/event-detail/the-d-tastic-duo/
LOCATION:The Kitchen at PB603\, 45 Danville Road\, Hampstead\, NH\, 03826\, United States
ATTACH;FMTTYPE=image/jpeg:https://pickleball603.com/wp-content/uploads/2026/01/D-Tastic-Duo.jpg
END:VEVENT
BEGIN:VEVENT
DTSTART;TZID=America/New_York:20260115T180000
DTEND;TZID=America/New_York:20260115T180000
DTSTAMP:20260420T102505
CREATED:20250813T231632Z
LAST-MODIFIED:20250813T231632Z
UID:10000026-1768500000-1768500000@pickleball603.com
SUMMARY:45s Card Night
DESCRIPTION:
URL:https://pickleball603.com/event-detail/45s-card-night/2026-01-15/
LOCATION:The Kitchen at PB603\, 45 Danville Road\, Hampstead\, NH\, 03826\, United States
ATTACH;FMTTYPE=image/jpeg:https://pickleball603.com/wp-content/uploads/2025/08/45s-card-night.jpg
END:VEVENT
BEGIN:VEVENT
DTSTART;TZID=America/New_York:20260116T183000
DTEND;TZID=America/New_York:20260116T213000
DTSTAMP:20260420T102505
CREATED:20260107T223513Z
LAST-MODIFIED:20260107T223513Z
UID:10000266-1768588200-1768599000@pickleball603.com
SUMMARY:Steve Organek
DESCRIPTION:
URL:https://pickleball603.com/event-detail/steve-organek/
LOCATION:The Kitchen at PB603\, 45 Danville Road\, Hampstead\, NH\, 03826\, United States
ATTACH;FMTTYPE=image/jpeg:https://pickleball603.com/wp-content/uploads/2026/01/Steve-Organek.jpg
END:VEVENT
BEGIN:VEVENT
DTSTART;TZID=America/New_York:20260117T160000
DTEND;TZID=America/New_York:20260117T190000
DTSTAMP:20260420T102505
CREATED:20260107T223559Z
LAST-MODIFIED:20260107T223559Z
UID:10000267-1768665600-1768676400@pickleball603.com
SUMMARY:The Classic Rain Duo
DESCRIPTION:
URL:https://pickleball603.com/event-detail/the-classic-rain-duo/
LOCATION:The Kitchen at PB603\, 45 Danville Road\, Hampstead\, NH\, 03826\, United States
ATTACH;FMTTYPE=image/jpeg:https://pickleball603.com/wp-content/uploads/2026/01/596493144_10225099446027996_8969527932132840886_n.jpg
END:VEVENT
BEGIN:VEVENT
DTSTART;TZID=America/New_York:20260122T180000
DTEND;TZID=America/New_York:20260122T180000
DTSTAMP:20260420T102505
CREATED:20250813T231632Z
LAST-MODIFIED:20250813T231632Z
UID:10000027-1769104800-1769104800@pickleball603.com
SUMMARY:45s Card Night
DESCRIPTION:
URL:https://pickleball603.com/event-detail/45s-card-night/2026-01-22/
LOCATION:The Kitchen at PB603\, 45 Danville Road\, Hampstead\, NH\, 03826\, United States
ATTACH;FMTTYPE=image/jpeg:https://pickleball603.com/wp-content/uploads/2025/08/45s-card-night.jpg
END:VEVENT
BEGIN:VEVENT
DTSTART;TZID=America/New_York:20260129T180000
DTEND;TZID=America/New_York:20260129T180000
DTSTAMP:20260420T102505
CREATED:20250813T231632Z
LAST-MODIFIED:20250813T231632Z
UID:10000028-1769709600-1769709600@pickleball603.com
SUMMARY:45s Card Night
DESCRIPTION:
URL:https://pickleball603.com/event-detail/45s-card-night/2026-01-29/
LOCATION:The Kitchen at PB603\, 45 Danville Road\, Hampstead\, NH\, 03826\, United States
ATTACH;FMTTYPE=image/jpeg:https://pickleball603.com/wp-content/uploads/2025/08/45s-card-night.jpg
END:VEVENT
END:VCALENDAR